BEGIN:VCALENDAR
VERSION:2.0
PRODID:-//EquiCuratio - ECPv6.15.17//NONSGML v1.0//EN
CALSCALE:GREGORIAN
METHOD:PUBLISH
X-ORIGINAL-URL:https://equicuratio.de
X-WR-CALDESC:Veranstaltungen für EquiCuratio
REFRESH-INTERVAL;VALUE=DURATION:PT1H
X-Robots-Tag:noindex
X-PUBLISHED-TTL:PT1H
BEGIN:VTIMEZONE
TZID:Europe/Berlin
BEGIN:DAYLIGHT
TZOFFSETFROM:+0100
TZOFFSETTO:+0200
TZNAME:CEST
DTSTART:20200329T010000
END:DAYLIGHT
BEGIN:STANDARD
TZOFFSETFROM:+0200
TZOFFSETTO:+0100
TZNAME:CET
DTSTART:20201025T010000
END:STANDARD
BEGIN:DAYLIGHT
TZOFFSETFROM:+0100
TZOFFSETTO:+0200
TZNAME:CEST
DTSTART:20210328T010000
END:DAYLIGHT
BEGIN:STANDARD
TZOFFSETFROM:+0200
TZOFFSETTO:+0100
TZNAME:CET
DTSTART:20211031T010000
END:STANDARD
BEGIN:DAYLIGHT
TZOFFSETFROM:+0100
TZOFFSETTO:+0200
TZNAME:CEST
DTSTART:20220327T010000
END:DAYLIGHT
BEGIN:STANDARD
TZOFFSETFROM:+0200
TZOFFSETTO:+0100
TZNAME:CET
DTSTART:20221030T010000
END:STANDARD
END:VTIMEZONE
BEGIN:VEVENT
DTSTART;TZID=Europe/Berlin:20210710T100000
DTEND;TZID=Europe/Berlin:20210710T170000
DTSTAMP:20260425T034725
CREATED:20201210T201953Z
LAST-MODIFIED:20201210T201953Z
UID:213046-1625911200-1625936400@equicuratio.de
SUMMARY:Passender Sattel- gesundes Pferd!
DESCRIPTION:
URL:https://equicuratio.de/termin/passender-sattel-gesundes-pferd/
LOCATION:Double-W-Ranch\, Vielitzer Str. 1\, 16835 Herzberg/Mark (Neuruppin)\, Ostprignitz\, 16835
CATEGORIES:Seminar
ATTACH;FMTTYPE=image/jpeg:https://equicuratio.de/wp-content/uploads/B1BCCE74-7419-42DD-9CD1-4D4E42059A31.jpeg
ORGANIZER;CN="kathleen Schefter":MAILTO:Kschefter@web.de
END:VEVENT
END:VCALENDAR