BEGIN:VCALENDAR
VERSION:2.0
PRODID:-//EquiCuratio - ECPv6.15.17//NONSGML v1.0//EN
CALSCALE:GREGORIAN
METHOD:PUBLISH
X-ORIGINAL-URL:https://equicuratio.de
X-WR-CALDESC:Veranstaltungen für EquiCuratio
REFRESH-INTERVAL;VALUE=DURATION:PT1H
X-Robots-Tag:noindex
X-PUBLISHED-TTL:PT1H
BEGIN:VTIMEZONE
TZID:Europe/Berlin
BEGIN:DAYLIGHT
TZOFFSETFROM:+0100
TZOFFSETTO:+0200
TZNAME:CEST
DTSTART:20200329T010000
END:DAYLIGHT
BEGIN:STANDARD
TZOFFSETFROM:+0200
TZOFFSETTO:+0100
TZNAME:CET
DTSTART:20201025T010000
END:STANDARD
BEGIN:DAYLIGHT
TZOFFSETFROM:+0100
TZOFFSETTO:+0200
TZNAME:CEST
DTSTART:20210328T010000
END:DAYLIGHT
BEGIN:STANDARD
TZOFFSETFROM:+0200
TZOFFSETTO:+0100
TZNAME:CET
DTSTART:20211031T010000
END:STANDARD
BEGIN:DAYLIGHT
TZOFFSETFROM:+0100
TZOFFSETTO:+0200
TZNAME:CEST
DTSTART:20220327T010000
END:DAYLIGHT
BEGIN:STANDARD
TZOFFSETFROM:+0200
TZOFFSETTO:+0100
TZNAME:CET
DTSTART:20221030T010000
END:STANDARD
END:VTIMEZONE
BEGIN:VEVENT
DTSTART;TZID=Europe/Berlin:20210619T100000
DTEND;TZID=Europe/Berlin:20210619T100000
DTSTAMP:20260425T053257
CREATED:20201202T175743Z
LAST-MODIFIED:20210223T090011Z
UID:213017-1624096800-1624096800@equicuratio.de
SUMMARY:Faszientherapie- frei in der Bewegung!
DESCRIPTION:Für einen gesunden Bewegungsablauf
URL:https://equicuratio.de/termin/faszientherapie-deinem-pferd-zu-liebe/
LOCATION:Double-W-Ranch\, Vielitzer Str. 1\, 16835 Herzberg/Mark (Neuruppin)\, Ostprignitz\, 16835
CATEGORIES:Seminar
ORGANIZER;CN="kathleen Schefter":MAILTO:Kschefter@web.de
END:VEVENT
END:VCALENDAR