BEGIN:VCALENDAR
VERSION:2.0
PRODID:-//EquiCuratio - ECPv6.15.17//NONSGML v1.0//EN
CALSCALE:GREGORIAN
METHOD:PUBLISH
X-WR-CALNAME:EquiCuratio
X-ORIGINAL-URL:https://equicuratio.de
X-WR-CALDESC:Veranstaltungen für EquiCuratio
REFRESH-INTERVAL;VALUE=DURATION:PT1H
X-Robots-Tag:noindex
X-PUBLISHED-TTL:PT1H
BEGIN:VTIMEZONE
TZID:Europe/Berlin
BEGIN:DAYLIGHT
TZOFFSETFROM:+0100
TZOFFSETTO:+0200
TZNAME:CEST
DTSTART:20190331T010000
END:DAYLIGHT
BEGIN:STANDARD
TZOFFSETFROM:+0200
TZOFFSETTO:+0100
TZNAME:CET
DTSTART:20191027T010000
END:STANDARD
BEGIN:DAYLIGHT
TZOFFSETFROM:+0100
TZOFFSETTO:+0200
TZNAME:CEST
DTSTART:20200329T010000
END:DAYLIGHT
BEGIN:STANDARD
TZOFFSETFROM:+0200
TZOFFSETTO:+0100
TZNAME:CET
DTSTART:20201025T010000
END:STANDARD
BEGIN:DAYLIGHT
TZOFFSETFROM:+0100
TZOFFSETTO:+0200
TZNAME:CEST
DTSTART:20210328T010000
END:DAYLIGHT
BEGIN:STANDARD
TZOFFSETFROM:+0200
TZOFFSETTO:+0100
TZNAME:CET
DTSTART:20211031T010000
END:STANDARD
END:VTIMEZONE
BEGIN:VEVENT
DTSTART;TZID=Europe/Berlin:20201101T100000
DTEND;TZID=Europe/Berlin:20201101T180000
DTSTAMP:20260425T173953
CREATED:20200927T103127Z
LAST-MODIFIED:20210223T090419Z
UID:213011-1604224800-1604253600@equicuratio.de
SUMMARY:Faszientherapie -Deinem Pferd zu Liebe
DESCRIPTION:Aufgrund der starken Nachfrage Zusatztermin
URL:https://equicuratio.de/termin/faszientherapie-dem-pferd-zuliebe/
LOCATION:classic Quaterhorses\, Lindenstraße 32a\, Jahnberge- Wiesenaue\, 14662
CATEGORIES:Seminar
END:VEVENT
END:VCALENDAR