BEGIN:VCALENDAR
VERSION:2.0
PRODID:-//EquiCuratio - ECPv6.15.17//NONSGML v1.0//EN
CALSCALE:GREGORIAN
METHOD:PUBLISH
X-WR-CALNAME:EquiCuratio
X-ORIGINAL-URL:https://equicuratio.de
X-WR-CALDESC:Veranstaltungen für EquiCuratio
REFRESH-INTERVAL;VALUE=DURATION:PT1H
X-Robots-Tag:noindex
X-PUBLISHED-TTL:PT1H
BEGIN:VTIMEZONE
TZID:Europe/Berlin
BEGIN:DAYLIGHT
TZOFFSETFROM:+0100
TZOFFSETTO:+0200
TZNAME:CEST
DTSTART:20230326T010000
END:DAYLIGHT
BEGIN:STANDARD
TZOFFSETFROM:+0200
TZOFFSETTO:+0100
TZNAME:CET
DTSTART:20231029T010000
END:STANDARD
BEGIN:DAYLIGHT
TZOFFSETFROM:+0100
TZOFFSETTO:+0200
TZNAME:CEST
DTSTART:20240331T010000
END:DAYLIGHT
BEGIN:STANDARD
TZOFFSETFROM:+0200
TZOFFSETTO:+0100
TZNAME:CET
DTSTART:20241027T010000
END:STANDARD
BEGIN:DAYLIGHT
TZOFFSETFROM:+0100
TZOFFSETTO:+0200
TZNAME:CEST
DTSTART:20250330T010000
END:DAYLIGHT
BEGIN:STANDARD
TZOFFSETFROM:+0200
TZOFFSETTO:+0100
TZNAME:CET
DTSTART:20251026T010000
END:STANDARD
END:VTIMEZONE
BEGIN:VEVENT
DTSTART;TZID=Europe/Berlin:20240907T100000
DTEND;TZID=Europe/Berlin:20240907T170000
DTSTAMP:20260420T094209
CREATED:20240507T083553Z
LAST-MODIFIED:20240507T083553Z
UID:213248-1725703200-1725728400@equicuratio.de
SUMMARY:Verklebt?- wenn nichts mehr geht…
DESCRIPTION:
URL:https://equicuratio.de/termin/verklebt-wenn-nichts-mehr-geht/
CATEGORIES:Seminar
ATTACH;FMTTYPE=image/jpeg:https://equicuratio.de/wp-content/uploads/Taping-2.jpg
ORGANIZER;CN="kathleen Schefter":MAILTO:Kschefter@web.de
END:VEVENT
BEGIN:VEVENT
DTSTART;VALUE=DATE:20240921
DTEND;VALUE=DATE:20240923
DTSTAMP:20260420T094209
CREATED:20240909T115733Z
LAST-MODIFIED:20240909T115733Z
UID:213251-1726905600-1726991999@equicuratio.de
SUMMARY:Haltung einnehmen
DESCRIPTION:Klare Bidenkommunikation durch Körpersprache in Haltung \nEigenwahrnehmung der Hilfengebung \nTheorie:Biomechanik von Pferd und Mensch \nPraxis:Physiotherapeutische Gymnastik \nBeobachtung am Pferd \nFühren in Harmonie
URL:https://equicuratio.de/termin/haltung-einnehmen/
CATEGORIES:Seminar
ATTACH;FMTTYPE=image/jpeg:https://equicuratio.de/wp-content/uploads/A8BE250A-9396-4B9F-9B5A-E7741570842F.jpeg
END:VEVENT
END:VCALENDAR