BEGIN:VCALENDAR
VERSION:2.0
PRODID:-//EquiCuratio - ECPv6.15.17//NONSGML v1.0//EN
CALSCALE:GREGORIAN
METHOD:PUBLISH
X-WR-CALNAME:EquiCuratio
X-ORIGINAL-URL:https://equicuratio.de
X-WR-CALDESC:Veranstaltungen für EquiCuratio
REFRESH-INTERVAL;VALUE=DURATION:PT1H
X-Robots-Tag:noindex
X-PUBLISHED-TTL:PT1H
BEGIN:VTIMEZONE
TZID:Europe/Berlin
BEGIN:DAYLIGHT
TZOFFSETFROM:+0100
TZOFFSETTO:+0200
TZNAME:CEST
DTSTART:20210328T010000
END:DAYLIGHT
BEGIN:STANDARD
TZOFFSETFROM:+0200
TZOFFSETTO:+0100
TZNAME:CET
DTSTART:20211031T010000
END:STANDARD
BEGIN:DAYLIGHT
TZOFFSETFROM:+0100
TZOFFSETTO:+0200
TZNAME:CEST
DTSTART:20220327T010000
END:DAYLIGHT
BEGIN:STANDARD
TZOFFSETFROM:+0200
TZOFFSETTO:+0100
TZNAME:CET
DTSTART:20221030T010000
END:STANDARD
BEGIN:DAYLIGHT
TZOFFSETFROM:+0100
TZOFFSETTO:+0200
TZNAME:CEST
DTSTART:20230326T010000
END:DAYLIGHT
BEGIN:STANDARD
TZOFFSETFROM:+0200
TZOFFSETTO:+0100
TZNAME:CET
DTSTART:20231029T010000
END:STANDARD
END:VTIMEZONE
BEGIN:VEVENT
DTSTART;TZID=Europe/Berlin:20220129T100000
DTEND;TZID=Europe/Berlin:20220129T170000
DTSTAMP:20260424T095309
CREATED:20211231T120417Z
LAST-MODIFIED:20211231T120417Z
UID:213176-1643450400-1643475600@equicuratio.de
SUMMARY:Equispa Wärmetherapie/Kältetherapie
DESCRIPTION:
URL:https://equicuratio.de/termin/equispa-waermetherapie-kaeltetherapie/
LOCATION:Gut Sarnow\, Eichhorster Chaussee 5\, Reitanlage\, 16244
CATEGORIES:Seminar
ATTACH;FMTTYPE=image/jpeg:https://equicuratio.de/wp-content/uploads/27D615F4-AD9B-4867-8850-9DD2B2E71090.jpeg
END:VEVENT
END:VCALENDAR